BEGIN:VCALENDAR
VERSION:2.0
PRODID:-//hacksw/handcal//NONSGML v1.0//EN
CALSCALE:GREGORIAN
BEGIN:VEVENT
DTSTART:20221215T103000Z
DTEND:20221215T103000Z
UID:e25772
DTSTAMP:20260419T185625Z
LOCATION:
DESCRIPTION:One possible reason why the petrous bone preserves ancient DNA relatively well is that it contains high concentrations of bone cells
SUMMARY:One possible reason why the petrous bone preserves ancient DNA relatively well is that it contains high concentrations of bone cells
END:VEVENT
END:VCALENDAR