BEGIN:VCALENDAR
VERSION:2.0
PRODID:-//hacksw/handcal//NONSGML v1.0//EN
CALSCALE:GREGORIAN
BEGIN:VEVENT
DTSTART:20230109T050000Z
DTEND:20230109T050000Z
UID:e25794
DTSTAMP:20260420T045834Z
LOCATION:Dolfi and Lola Ebner Auditorium
DESCRIPTION:SERGIO LOMBROSO AWARD IN CANCER RESEARCH CEREMONY AND SYMPOSIUM
SUMMARY:SERGIO LOMBROSO AWARD IN CANCER RESEARCH CEREMONY AND SYMPOSIUM
END:VEVENT
END:VCALENDAR