BEGIN:VCALENDAR
VERSION:2.0
PRODID:-//hacksw/handcal//NONSGML v1.0//EN
CALSCALE:GREGORIAN
BEGIN:VEVENT
DTSTART:20230117T110000Z
DTEND:20230117T120000Z
UID:e25800
DTSTAMP:20260421T051340Z
LOCATION:Gerhard M.J. Schmidt Lecture Hall
DESCRIPTION:Rational discovery of selective chemical probes of the polyamine deacetylase HDAC10
SUMMARY:Rational discovery of selective chemical probes of the polyamine deacetylase HDAC10
END:VEVENT
END:VCALENDAR