BEGIN:VCALENDAR
VERSION:2.0
PRODID:-//hacksw/handcal//NONSGML v1.0//EN
CALSCALE:GREGORIAN
BEGIN:VEVENT
DTSTART:20230222T080000Z
DTEND:20230222T090000Z
UID:e25962
DTSTAMP:20260419T185609Z
LOCATION:Gerhard M.J. Schmidt Lecture Hall
DESCRIPTION:Strong light-exciton interactions in 2D semiconductors
SUMMARY:Strong light-exciton interactions in 2D semiconductors
END:VEVENT
END:VCALENDAR