BEGIN:VCALENDAR
VERSION:2.0
PRODID:-//hacksw/handcal//NONSGML v1.0//EN
CALSCALE:GREGORIAN
BEGIN:VEVENT
DTSTART:20230124T093000Z
DTEND:20230124T103000Z
UID:e25988
DTSTAMP:20260420T115913Z
LOCATION:Perlman Chemical Sciences Building
DESCRIPTION:Electro-freezing of Super-Cooled Water within Electrolytic Cells 
SUMMARY:Electro-freezing of Super-Cooled Water within Electrolytic Cells 
END:VEVENT
END:VCALENDAR