BEGIN:VCALENDAR
VERSION:2.0
PRODID:-//hacksw/handcal//NONSGML v1.0//EN
CALSCALE:GREGORIAN
BEGIN:VEVENT
DTSTART:20230309T070000Z
DTEND:20230309T080000Z
UID:e25990
DTSTAMP:20260421T020312Z
LOCATION:Arthur and Rochelle Belfer Building for Biomedical Research
DESCRIPTION:Special Guest Seminar 
SUMMARY:Special Guest Seminar 
END:VEVENT
END:VCALENDAR