BEGIN:VCALENDAR
VERSION:2.0
PRODID:-//hacksw/handcal//NONSGML v1.0//EN
CALSCALE:GREGORIAN
BEGIN:VEVENT
DTSTART:20230214T080000Z
DTEND:20230214T090000Z
UID:e25996
DTSTAMP:20260420T194142Z
LOCATION:Gerhard M.J. Schmidt Lecture Hall
DESCRIPTION:Photoinduced regioselective functionalization of arenes at proximal and distal sites
SUMMARY:Photoinduced regioselective functionalization of arenes at proximal and distal sites
END:VEVENT
END:VCALENDAR