BEGIN:VCALENDAR
VERSION:2.0
PRODID:-//hacksw/handcal//NONSGML v1.0//EN
CALSCALE:GREGORIAN
BEGIN:VEVENT
DTSTART:20230313T081500Z
DTEND:20230313T094500Z
UID:e26034
DTSTAMP:20260421T051358Z
LOCATION:Jacob Ziskind Building
DESCRIPTION:Foundations of Computer Science Seminar
SUMMARY:Foundations of Computer Science Seminar
END:VEVENT
END:VCALENDAR