BEGIN:VCALENDAR
VERSION:2.0
PRODID:-//hacksw/handcal//NONSGML v1.0//EN
CALSCALE:GREGORIAN
BEGIN:VEVENT
DTSTART:20230228T080000Z
DTEND:20230228T090000Z
UID:e26074
DTSTAMP:20260420T091556Z
LOCATION:Gerhard M.J. Schmidt Lecture Hall
DESCRIPTION:Intrinsically Chiral and Multimodal Click Chemistry
SUMMARY:Intrinsically Chiral and Multimodal Click Chemistry
END:VEVENT
END:VCALENDAR