BEGIN:VCALENDAR
VERSION:2.0
PRODID:-//hacksw/handcal//NONSGML v1.0//EN
CALSCALE:GREGORIAN
BEGIN:VEVENT
DTSTART:20230209T110000Z
DTEND:20230209T120000Z
UID:e26078
DTSTAMP:20260420T062932Z
LOCATION:
DESCRIPTION:Some like it hot - the effect of future warming on calcifying organisms 
SUMMARY:Some like it hot - the effect of future warming on calcifying organisms 
END:VEVENT
END:VCALENDAR