BEGIN:VCALENDAR
VERSION:2.0
PRODID:-//hacksw/handcal//NONSGML v1.0//EN
CALSCALE:GREGORIAN
BEGIN:VEVENT
DTSTART:20230219T081500Z
DTEND:20230219T093000Z
UID:e26126
DTSTAMP:20260420T194325Z
LOCATION:Edna and K.B. Weissman Building of Physical Sciences
DESCRIPTION:Physics Colloquium
SUMMARY:Physics Colloquium
END:VEVENT
END:VCALENDAR