BEGIN:VCALENDAR
VERSION:2.0
PRODID:-//hacksw/handcal//NONSGML v1.0//EN
CALSCALE:GREGORIAN
BEGIN:VEVENT
DTSTART:20230227T113000Z
DTEND:20230227T113000Z
UID:e26152
DTSTAMP:20260420T005436Z
LOCATION:Gerhard M.J. Schmidt Lecture Hall
DESCRIPTION:Sensory processing in the whisker system  of awake\, behaving mice
SUMMARY:Sensory processing in the whisker system  of awake\, behaving mice
END:VEVENT
END:VCALENDAR