BEGIN:VCALENDAR
VERSION:2.0
PRODID:-//hacksw/handcal//NONSGML v1.0//EN
CALSCALE:GREGORIAN
BEGIN:VEVENT
DTSTART:20230314T070000Z
DTEND:20230314T080000Z
UID:e26172
DTSTAMP:20260421T051433Z
LOCATION:Max and Lillian Candiotty Building
DESCRIPTION:Special seminar: Simultaneous Imaging of millions of Single cells with the Xenium In situ platform
SUMMARY:Special seminar: Simultaneous Imaging of millions of Single cells with the Xenium In situ platform
END:VEVENT
END:VCALENDAR