BEGIN:VCALENDAR
VERSION:2.0
PRODID:-//hacksw/handcal//NONSGML v1.0//EN
CALSCALE:GREGORIAN
BEGIN:VEVENT
DTSTART:20230420T110000Z
DTEND:20230420T120000Z
UID:e26174
DTSTAMP:20260421T114653Z
LOCATION:Max and Lillian Candiotty Building
DESCRIPTION:Drug delivery systems in the treatment of cancer: Fundamentals and clinical applications 
SUMMARY:Drug delivery systems in the treatment of cancer: Fundamentals and clinical applications 
END:VEVENT
END:VCALENDAR