BEGIN:VCALENDAR
VERSION:2.0
PRODID:-//hacksw/handcal//NONSGML v1.0//EN
CALSCALE:GREGORIAN
BEGIN:VEVENT
DTSTART:20230313T110000Z
DTEND:20230313T120000Z
UID:e26184
DTSTAMP:20260421T174027Z
LOCATION:Nella and Leon Benoziyo Physics Building
DESCRIPTION:The platypus of the quantum channel zoo
SUMMARY:The platypus of the quantum channel zoo
END:VEVENT
END:VCALENDAR