BEGIN:VCALENDAR
VERSION:2.0
PRODID:-//hacksw/handcal//NONSGML v1.0//EN
CALSCALE:GREGORIAN
BEGIN:VEVENT
DTSTART:20230313T120000Z
DTEND:20230313T130000Z
UID:e26198
DTSTAMP:20260421T223122Z
LOCATION:Nella and Leon Benoziyo Building for Biological Sciences
DESCRIPTION:Ph.D. Defense Seminar- The tomato callus as a model to study plasticity and commitment in plants
SUMMARY:Ph.D. Defense Seminar- The tomato callus as a model to study plasticity and commitment in plants
END:VEVENT
END:VCALENDAR