BEGIN:VCALENDAR
VERSION:2.0
PRODID:-//hacksw/handcal//NONSGML v1.0//EN
CALSCALE:GREGORIAN
BEGIN:VEVENT
DTSTART:20230314T083000Z
DTEND:20230314T093000Z
UID:e26200
DTSTAMP:20260420T194155Z
LOCATION:Nella and Leon Benoziyo Building for Biological Sciences
DESCRIPTION:Reactive oxygen species regulation of cell to cell systemic signaling  and acclimation in plants during stress 
SUMMARY:Reactive oxygen species regulation of cell to cell systemic signaling  and acclimation in plants during stress 
END:VEVENT
END:VCALENDAR