BEGIN:VCALENDAR
VERSION:2.0
PRODID:-//hacksw/handcal//NONSGML v1.0//EN
CALSCALE:GREGORIAN
BEGIN:VEVENT
DTSTART:20230312T080000Z
DTEND:20230312T090000Z
UID:e26202
DTSTAMP:20260421T213509Z
LOCATION:Perlman Chemical Sciences Building
DESCRIPTION:Soft Matter and Biomaterials: “The Secret Ultrafast Motions of Protein Nanomachines”
SUMMARY:Soft Matter and Biomaterials: “The Secret Ultrafast Motions of Protein Nanomachines”
END:VEVENT
END:VCALENDAR