BEGIN:VCALENDAR
VERSION:2.0
PRODID:-//hacksw/handcal//NONSGML v1.0//EN
CALSCALE:GREGORIAN
BEGIN:VEVENT
DTSTART:20230315T080000Z
DTEND:20230315T090000Z
UID:e26204
DTSTAMP:20260420T194148Z
LOCATION:Gerhard M.J. Schmidt Lecture Hall
DESCRIPTION:Towards resolving dynamics of molecular machines using time-resolved cryo-EM
SUMMARY:Towards resolving dynamics of molecular machines using time-resolved cryo-EM
END:VEVENT
END:VCALENDAR