BEGIN:VCALENDAR
VERSION:2.0
PRODID:-//hacksw/handcal//NONSGML v1.0//EN
CALSCALE:GREGORIAN
BEGIN:VEVENT
DTSTART:20230329T120000Z
DTEND:20230330T141500Z
UID:e26212
DTSTAMP:20260419T231649Z
LOCATION:
DESCRIPTION:Brain plasticity Regulation and Modulation. Neurobiology symposium in honor of Prof. Menahem Segal
SUMMARY:Brain plasticity Regulation and Modulation. Neurobiology symposium in honor of Prof. Menahem Segal
END:VEVENT
END:VCALENDAR