BEGIN:VCALENDAR
VERSION:2.0
PRODID:-//hacksw/handcal//NONSGML v1.0//EN
CALSCALE:GREGORIAN
BEGIN:VEVENT
DTSTART:20230404T110000Z
DTEND:20230404T123000Z
UID:e26218
DTSTAMP:20260420T065117Z
LOCATION:Ullmann Building of Life Sciences
DESCRIPTION:PhD Thesis Defense - Alex Genzelinakh (Tzahor Lab)
SUMMARY:PhD Thesis Defense - Alex Genzelinakh (Tzahor Lab)
END:VEVENT
END:VCALENDAR