BEGIN:VCALENDAR
VERSION:2.0
PRODID:-//hacksw/handcal//NONSGML v1.0//EN
CALSCALE:GREGORIAN
BEGIN:VEVENT
DTSTART:20230402T133000Z
DTEND:20230402T143000Z
UID:e26220
DTSTAMP:20260421T234619Z
LOCATION:Perlman Chemical Sciences Building
DESCRIPTION:3D quantitative-amplified Magnetic Resonance Imaging (3D q-aMRI)
SUMMARY:3D quantitative-amplified Magnetic Resonance Imaging (3D q-aMRI)
END:VEVENT
END:VCALENDAR