BEGIN:VCALENDAR
VERSION:2.0
PRODID:-//hacksw/handcal//NONSGML v1.0//EN
CALSCALE:GREGORIAN
BEGIN:VEVENT
DTSTART:20230404T083000Z
DTEND:20230404T093000Z
UID:e26240
DTSTAMP:20260419T185822Z
LOCATION:Nella and Leon Benoziyo Building for Biological Sciences
DESCRIPTION:Solanaceae metabolic diversification from shoot to root 
SUMMARY:Solanaceae metabolic diversification from shoot to root 
END:VEVENT
END:VCALENDAR