BEGIN:VCALENDAR
VERSION:2.0
PRODID:-//hacksw/handcal//NONSGML v1.0//EN
CALSCALE:GREGORIAN
BEGIN:VEVENT
DTSTART:20230419T090000Z
DTEND:20230419T103000Z
UID:e26254
DTSTAMP:20260420T194154Z
LOCATION:Nella and Leon Benoziyo Building for Biological Sciences
DESCRIPTION:LS Luncheon
SUMMARY:LS Luncheon
END:VEVENT
END:VCALENDAR