BEGIN:VCALENDAR
VERSION:2.0
PRODID:-//hacksw/handcal//NONSGML v1.0//EN
CALSCALE:GREGORIAN
BEGIN:VEVENT
DTSTART:20230515T080000Z
DTEND:20230515T090000Z
UID:e26274
DTSTAMP:20260422T033917Z
LOCATION:Gerhard M.J. Schmidt Lecture Hall
DESCRIPTION:KENDREW LECTURE: Computational Structural Biology in the Era of Deep Learning 
SUMMARY:KENDREW LECTURE: Computational Structural Biology in the Era of Deep Learning 
END:VEVENT
END:VCALENDAR