BEGIN:VCALENDAR
VERSION:2.0
PRODID:-//hacksw/handcal//NONSGML v1.0//EN
CALSCALE:GREGORIAN
BEGIN:VEVENT
DTSTART:20230417T094500Z
DTEND:20230417T103000Z
UID:e26278
DTSTAMP:20260419T185640Z
LOCATION:Gerhard M.J. Schmidt Lecture Hall
DESCRIPTION:Correlated light and electron microscopy reveal recurrent circuit motives in the zebrafish hindbrain visual integrator network
SUMMARY:Correlated light and electron microscopy reveal recurrent circuit motives in the zebrafish hindbrain visual integrator network
END:VEVENT
END:VCALENDAR