BEGIN:VCALENDAR
VERSION:2.0
PRODID:-//hacksw/handcal//NONSGML v1.0//EN
CALSCALE:GREGORIAN
BEGIN:VEVENT
DTSTART:20230502T110000Z
DTEND:20230502T120000Z
UID:e26292
DTSTAMP:20260422T091149Z
LOCATION:Gerhard M.J. Schmidt Lecture Hall
DESCRIPTION:Conspiring with the Enemy: A Unique Mechanism in Class A JDPs Stabilizes Oncogenic p53 Mutants
SUMMARY:Conspiring with the Enemy: A Unique Mechanism in Class A JDPs Stabilizes Oncogenic p53 Mutants
END:VEVENT
END:VCALENDAR