BEGIN:VCALENDAR
VERSION:2.0
PRODID:-//hacksw/handcal//NONSGML v1.0//EN
CALSCALE:GREGORIAN
BEGIN:VEVENT
DTSTART:20230424T081500Z
DTEND:20230424T093000Z
UID:e26296
DTSTAMP:20260419T074525Z
LOCATION:Jacob Ziskind Building
DESCRIPTION:Foundations of Computer Science Seminar
SUMMARY:Foundations of Computer Science Seminar
END:VEVENT
END:VCALENDAR