BEGIN:VCALENDAR
VERSION:2.0
PRODID:-//hacksw/handcal//NONSGML v1.0//EN
CALSCALE:GREGORIAN
BEGIN:VEVENT
DTSTART:20230606T110000Z
DTEND:20230606T120000Z
UID:e26302
DTSTAMP:20260423T065738Z
LOCATION:Max and Lillian Candiotty Building
DESCRIPTION:Drivers and dependencies arising during tumor evolution 
SUMMARY:Drivers and dependencies arising during tumor evolution 
END:VEVENT
END:VCALENDAR