BEGIN:VCALENDAR
VERSION:2.0
PRODID:-//hacksw/handcal//NONSGML v1.0//EN
CALSCALE:GREGORIAN
BEGIN:VEVENT
DTSTART:20240613T050000Z
DTEND:20240613T050000Z
UID:e26340
DTSTAMP:20260419T140635Z
LOCATION:The David Lopatie Conference Centre
DESCRIPTION:Annual Conference of the The Israeli Fermentation Society (2024)
SUMMARY:Annual Conference of the The Israeli Fermentation Society (2024)
END:VEVENT
END:VCALENDAR