BEGIN:VCALENDAR
VERSION:2.0
PRODID:-//hacksw/handcal//NONSGML v1.0//EN
CALSCALE:GREGORIAN
BEGIN:VEVENT
DTSTART:20230517T070000Z
DTEND:20230517T080000Z
UID:e26342
DTSTAMP:20260421T213454Z
LOCATION:Ullmann Building of Life Sciences
DESCRIPTION:Factors determining the early steps in the disease initiation of myeloproliferative neoplasms by the JAK2-mutated hematopoietic stem cell
SUMMARY:Factors determining the early steps in the disease initiation of myeloproliferative neoplasms by the JAK2-mutated hematopoietic stem cell
END:VEVENT
END:VCALENDAR