BEGIN:VCALENDAR
VERSION:2.0
PRODID:-//hacksw/handcal//NONSGML v1.0//EN
CALSCALE:GREGORIAN
BEGIN:VEVENT
DTSTART:20230510T081500Z
DTEND:20230510T093000Z
UID:e26358
DTSTAMP:20260421T174019Z
LOCATION:Jacob Ziskind Building
DESCRIPTION:Machine Learning and Statistics Seminar
SUMMARY:Machine Learning and Statistics Seminar
END:VEVENT
END:VCALENDAR