BEGIN:VCALENDAR
VERSION:2.0
PRODID:-//hacksw/handcal//NONSGML v1.0//EN
CALSCALE:GREGORIAN
BEGIN:VEVENT
DTSTART:20230427T080000Z
DTEND:20230427T090000Z
UID:e26380
DTSTAMP:20260422T120012Z
LOCATION:Sussman Family Building for Environmental Sciences
DESCRIPTION:Activation and arrest of thermal pressurization in localized faults
SUMMARY:Activation and arrest of thermal pressurization in localized faults
END:VEVENT
END:VCALENDAR