BEGIN:VCALENDAR
VERSION:2.0
PRODID:-//hacksw/handcal//NONSGML v1.0//EN
CALSCALE:GREGORIAN
BEGIN:VEVENT
DTSTART:20230507T080000Z
DTEND:20230507T090000Z
UID:e26386
DTSTAMP:20260421T204426Z
LOCATION:Sussman Family Building for Environmental Sciences
DESCRIPTION:Determining the age of the Kalahari Group\, Southern Africa\, using complex solutions for cosmogenic isotope concentrations
SUMMARY:Determining the age of the Kalahari Group\, Southern Africa\, using complex solutions for cosmogenic isotope concentrations
END:VEVENT
END:VCALENDAR