BEGIN:VCALENDAR
VERSION:2.0
PRODID:-//hacksw/handcal//NONSGML v1.0//EN
CALSCALE:GREGORIAN
BEGIN:VEVENT
DTSTART:20230516T120000Z
DTEND:20230516T130000Z
UID:e26438
DTSTAMP:20260424T055740Z
LOCATION:Arthur and Rochelle Belfer Building for Biomedical Research
DESCRIPTION:Special Guest Seminar
SUMMARY:Special Guest Seminar
END:VEVENT
END:VCALENDAR