BEGIN:VCALENDAR
VERSION:2.0
PRODID:-//hacksw/handcal//NONSGML v1.0//EN
CALSCALE:GREGORIAN
BEGIN:VEVENT
DTSTART:20230607T073000Z
DTEND:20230607T083000Z
UID:e26446
DTSTAMP:20260421T223126Z
LOCATION:Gerhard M.J. Schmidt Lecture Hall
DESCRIPTION:“How atoms jiggle and wiggle in energy materials”
SUMMARY:“How atoms jiggle and wiggle in energy materials”
END:VEVENT
END:VCALENDAR