BEGIN:VCALENDAR
VERSION:2.0
PRODID:-//hacksw/handcal//NONSGML v1.0//EN
CALSCALE:GREGORIAN
BEGIN:VEVENT
DTSTART:20230601T093000Z
DTEND:20230601T103000Z
UID:e26472
DTSTAMP:20260419T185605Z
LOCATION:Arthur and Rochelle Belfer Building for Biomedical Research
DESCRIPTION:Volatile cortical working memory representations crystalize with practice
SUMMARY:Volatile cortical working memory representations crystalize with practice
END:VEVENT
END:VCALENDAR