BEGIN:VCALENDAR
VERSION:2.0
PRODID:-//hacksw/handcal//NONSGML v1.0//EN
CALSCALE:GREGORIAN
BEGIN:VEVENT
DTSTART:20230612T050000Z
DTEND:20230612T050000Z
UID:e26476
DTSTAMP:20260421T174019Z
LOCATION:
DESCRIPTION:2023 Israeli meeting on RNA Therapeutics
SUMMARY:2023 Israeli meeting on RNA Therapeutics
END:VEVENT
END:VCALENDAR