BEGIN:VCALENDAR
VERSION:2.0
PRODID:-//hacksw/handcal//NONSGML v1.0//EN
CALSCALE:GREGORIAN
BEGIN:VEVENT
DTSTART:20230628T120000Z
DTEND:20230628T133000Z
UID:e26488
DTSTAMP:20260421T223145Z
LOCATION:Ullmann Building of Life Sciences
DESCRIPTION:open day in SAMPLAB
SUMMARY:open day in SAMPLAB
END:VEVENT
END:VCALENDAR