BEGIN:VCALENDAR
VERSION:2.0
PRODID:-//hacksw/handcal//NONSGML v1.0//EN
CALSCALE:GREGORIAN
BEGIN:VEVENT
DTSTART:20230613T070000Z
DTEND:20230613T080000Z
UID:e26504
DTSTAMP:20260421T223129Z
LOCATION:Nella and Leon Benoziyo Building for Biological Sciences
DESCRIPTION:Mechanisms of sperm-egg fusion in mammals
SUMMARY:Mechanisms of sperm-egg fusion in mammals
END:VEVENT
END:VCALENDAR