BEGIN:VCALENDAR
VERSION:2.0
PRODID:-//hacksw/handcal//NONSGML v1.0//EN
CALSCALE:GREGORIAN
BEGIN:VEVENT
DTSTART:20230620T073000Z
DTEND:20230620T080000Z
UID:e26510
DTSTAMP:20260420T065117Z
LOCATION:Nella and Leon Benoziyo Building for Biological Sciences
DESCRIPTION:The mechanism controlling fusion pore dynamics in large secretory vesicles defines a distinct mode of exocytosis
SUMMARY:The mechanism controlling fusion pore dynamics in large secretory vesicles defines a distinct mode of exocytosis
END:VEVENT
END:VCALENDAR