BEGIN:VCALENDAR
VERSION:2.0
PRODID:-//hacksw/handcal//NONSGML v1.0//EN
CALSCALE:GREGORIAN
BEGIN:VEVENT
DTSTART:20230612T050000Z
DTEND:20230613T050000Z
UID:e26516
DTSTAMP:20260421T174042Z
LOCATION:
DESCRIPTION:Biomaterials: From Basic Science of Nature's Material Design to the Biotech Industry
SUMMARY:Biomaterials: From Basic Science of Nature's Material Design to the Biotech Industry
END:VEVENT
END:VCALENDAR