BEGIN:VCALENDAR
VERSION:2.0
PRODID:-//hacksw/handcal//NONSGML v1.0//EN
CALSCALE:GREGORIAN
BEGIN:VEVENT
DTSTART:20230629T081500Z
DTEND:20230629T093000Z
UID:e26542
DTSTAMP:20260419T185454Z
LOCATION:Jacob Ziskind Building
DESCRIPTION:Vision and AI
SUMMARY:Vision and AI
END:VEVENT
END:VCALENDAR