BEGIN:VCALENDAR
VERSION:2.0
PRODID:-//hacksw/handcal//NONSGML v1.0//EN
CALSCALE:GREGORIAN
BEGIN:VEVENT
DTSTART:20230620T070000Z
DTEND:20230620T080000Z
UID:e26546
DTSTAMP:20260419T185433Z
LOCATION:Max and Lillian Candiotty Building
DESCRIPTION:RNA therapeutics modalities and targeted delivery approaches for developing transformational medicines for patients
SUMMARY:RNA therapeutics modalities and targeted delivery approaches for developing transformational medicines for patients
END:VEVENT
END:VCALENDAR