BEGIN:VCALENDAR
VERSION:2.0
PRODID:-//hacksw/handcal//NONSGML v1.0//EN
CALSCALE:GREGORIAN
BEGIN:VEVENT
DTSTART:20230620T083000Z
DTEND:20230620T093000Z
UID:e26550
DTSTAMP:20260421T223113Z
LOCATION:Nella and Leon Benoziyo Building for Plant and Environmental Sciences
DESCRIPTION:Phage communication controls its life-cycle through modulation of a bacterial anti-phage defense system
SUMMARY:Phage communication controls its life-cycle through modulation of a bacterial anti-phage defense system
END:VEVENT
END:VCALENDAR