BEGIN:VCALENDAR
VERSION:2.0
PRODID:-//hacksw/handcal//NONSGML v1.0//EN
CALSCALE:GREGORIAN
BEGIN:VEVENT
DTSTART:20230723T080000Z
DTEND:20230723T080000Z
UID:e26586
DTSTAMP:20260420T091540Z
LOCATION:
DESCRIPTION:Using weather regimes in the context of sub-seasonal forecasting for the Extratropics: the role of synoptic-scale processes in regime predictability\, modulation by the MJO and stratosphere\, and link to surface weather
SUMMARY:Using weather regimes in the context of sub-seasonal forecasting for the Extratropics: the role of synoptic-scale processes in regime predictability\, modulation by the MJO and stratosphere\, and link to surface weather
END:VEVENT
END:VCALENDAR