BEGIN:VCALENDAR
VERSION:2.0
PRODID:-//hacksw/handcal//NONSGML v1.0//EN
CALSCALE:GREGORIAN
BEGIN:VEVENT
DTSTART:20230626T081500Z
DTEND:20230626T090000Z
UID:e26596
DTSTAMP:20260420T122314Z
LOCATION:Wolfson Building for Biological Research
DESCRIPTION:Small Molecule Cancer Chemotherapy
SUMMARY:Small Molecule Cancer Chemotherapy
END:VEVENT
END:VCALENDAR