BEGIN:VCALENDAR
VERSION:2.0
PRODID:-//hacksw/handcal//NONSGML v1.0//EN
CALSCALE:GREGORIAN
BEGIN:VEVENT
DTSTART:20230626T091500Z
DTEND:20230626T100000Z
UID:e26598
DTSTAMP:20260422T142552Z
LOCATION:Wolfson Building for Biological Research
DESCRIPTION:From the lab to cancer therapy – the TOKAD story
SUMMARY:From the lab to cancer therapy – the TOKAD story
END:VEVENT
END:VCALENDAR