BEGIN:VCALENDAR
VERSION:2.0
PRODID:-//hacksw/handcal//NONSGML v1.0//EN
CALSCALE:GREGORIAN
BEGIN:VEVENT
DTSTART:20230710T094500Z
DTEND:20230710T104500Z
UID:e26602
DTSTAMP:20260421T085411Z
LOCATION:Gerhard M.J. Schmidt Lecture Hall
DESCRIPTION:Dendritic voltage imaging\, excitability rules\, and plasticity
SUMMARY:Dendritic voltage imaging\, excitability rules\, and plasticity
END:VEVENT
END:VCALENDAR