BEGIN:VCALENDAR
VERSION:2.0
PRODID:-//hacksw/handcal//NONSGML v1.0//EN
CALSCALE:GREGORIAN
BEGIN:VEVENT
DTSTART:20230807T080000Z
DTEND:20230807T090000Z
UID:e26662
DTSTAMP:20260420T045916Z
LOCATION:Max and Lillian Candiotty Building
DESCRIPTION:Special guest Seminar
SUMMARY:Special guest Seminar
END:VEVENT
END:VCALENDAR